BEGIN:VCALENDAR
VERSION:2.0
CALSCALE:GREGORIAN
PRODID:adamgibbons/ics
METHOD:PUBLISH
X-PUBLISHED-TTL:PT1H
BEGIN:VEVENT
UID:457@terminarz.brwinow.gmina.pl
SUMMARY:Dyżur radnego Macieja Żukowskiego (KO)
DTSTAMP:20260421T183441Z
DTSTART:20260519T143000Z
DTEND:20260519T153000Z
DESCRIPTION:MACIEJ ŻUKOWSKI zam. Brwinów – KKW Koalicja Obywatelska. Przewo
	dniczący Komisji\nInwestycji\, Rolnictwa i Ekologii oraz członek Komisji S
	praw Społecznych.\n\nDyżur: III wtorek miesiąca 16:30-17:30 pok. nr 5 w Ur
	zędzie Gminy Brwinów\, ul.\nGrodziska 12\n\ne-mail: maciej.zukowski@rada.b
	rwinow.pl [maciej.zukowski@rada.brwinow.pl]\n\nInformacje pobrane ze stron
	y Urzędu.
URL:https://terminarz.brwinow.gmina.pl/event/dyzur-radnego-macieja-zukowski
	ego-ko-18
GEO:52.1399153;20.7152592
LOCATION:Urząd Gminy Brwinów - Grodziska 12\, Brwinów
STATUS:CONFIRMED
CATEGORIES:brwinów_radni,Żukowski
X-ALT-DESC;FMTTYPE=text/html:<p>MACIEJ ŻUKOWSKI&nbsp;zam. Brwinów – KKW Koa
	licja Obywatelska. Przewodniczący Komisji Inwestycji, Rolnictwa i Ekologii
	 oraz członek Komisji Spraw Społecznych.</p><p>Dyżur: III wtorek miesiąca 
	16:30-17:30 pok. nr 5 w Urzędzie Gminy Brwinów, ul. Grodziska 12</p><p>e-m
	ail: <a target="_blank" href="mailto:maciej.zukowski@rada.brwinow.pl">maci
	ej.zukowski@rada.brwinow.pl</a></p><p>Informacje pobrane ze strony Urzędu.
	</p>
BEGIN:VALARM
ACTION:DISPLAY
DESCRIPTION:Dyżur radnego Macieja Żukowskiego (KO)
TRIGGER:-PT1H
END:VALARM
END:VEVENT
END:VCALENDAR
