BEGIN:VCALENDAR
VERSION:2.0
CALSCALE:GREGORIAN
PRODID:adamgibbons/ics
METHOD:PUBLISH
X-PUBLISHED-TTL:PT1H
BEGIN:VEVENT
UID:460@terminarz.brwinow.gmina.pl
SUMMARY:Dyżur radnego Marka Winiarskiego (Dobro Wspólne)
DTSTAMP:20260423T161552Z
DTSTART:20260528T090000Z
DTEND:20260528T100000Z
DESCRIPTION:MAREK WINIARSKI zam. Brwinów – KWW Arkadiusza Kosińskiego „Dobr
	o Wspólne”.\nWiceprzewodniczący Komisji Spraw Społecznych oraz członek Kom
	isji Kultury\,\nOświaty i Sportu.\n\nDyżur: ostatni czwartek miesiąca 11:0
	0-12:00 pok. nr 5 w Urzędzie Gminy Brwinów\,\nul. Grodziska 12\n\ne-mail: 
	marek.winiarski@rada.brwinow.pl [marek.winiarski@rada.brwinow.pl]\n\nInfor
	macje pobrane ze strony Urzędu.
URL:https://terminarz.brwinow.gmina.pl/event/dyzur-radnego-marka-winiarskie
	go-dobro-wspolne-17
GEO:52.1399153;20.7152592
LOCATION:Urząd Gminy Brwinów - Grodziska 12\, Brwinów
STATUS:CONFIRMED
CATEGORIES:brwinów_radni,Winiarski
X-ALT-DESC;FMTTYPE=text/html:<p>MAREK WINIARSKI&nbsp;zam. Brwinów – KWW Ark
	adiusza Kosińskiego „Dobro Wspólne”. Wiceprzewodniczący Komisji Spraw Społ
	ecznych oraz członek Komisji Kultury, Oświaty i Sportu.</p><p>Dyżur: ostat
	ni czwartek miesiąca 11:00-12:00 pok. nr 5 w Urzędzie Gminy Brwinów, ul. G
	rodziska 12</p><p>e-mail: <a target="_blank" href="mailto:marek.winiarski@
	rada.brwinow.pl">marek.winiarski@rada.brwinow.pl</a></p><p>Informacje pobr
	ane ze strony Urzędu.</p>
BEGIN:VALARM
ACTION:DISPLAY
DESCRIPTION:Dyżur radnego Marka Winiarskiego (Dobro Wspólne)
TRIGGER:-PT1H
END:VALARM
END:VEVENT
END:VCALENDAR
