BEGIN:VCALENDAR
VERSION:2.0
CALSCALE:GREGORIAN
PRODID:adamgibbons/ics
METHOD:PUBLISH
X-PUBLISHED-TTL:PT1H
BEGIN:VEVENT
UID:455@terminarz.brwinow.gmina.pl
SUMMARY:Dyżur radnej Magdaleny Szymczukiewicz (Dobro Wspólne)
DTSTAMP:20260421T093909Z
DTSTART:20260520T170000Z
DTEND:20260520T180000Z
DESCRIPTION:MAGDALENA SZYMCZUKIEWICZ zam. Brwinów – KWW Arkadiusza Kosiński
	ego „Dobro\nWspólne”. Wiceprzewodnicząca Komisji Inwestycji\, Rolnictwa i 
	Ekologii\, członek\nKomisji Kultury\, Oświaty i Sportu oraz Komisji Spraw 
	Społecznych.\n\nDyżur: III środa miesiąca 19:00-20:00 pok. nr 5 w Urzędzie
	 Gminy Brwinów\, ul.\nGrodziska 12\n\nemail: magdaszymczu@gmail.com [https
	://] 
URL:https://terminarz.brwinow.gmina.pl/event/dyzur-radnej-magdaleny-szymczu
	kiewicz-dobro-wspolne-18
GEO:52.1399153;20.7152592
LOCATION:Urząd Gminy Brwinów - Grodziska 12\, Brwinów
STATUS:CONFIRMED
CATEGORIES:brwinów_radni,Szymczukiewicz
X-ALT-DESC;FMTTYPE=text/html:<p>MAGDALENA SZYMCZUKIEWICZ&nbsp;zam. Brwinów 
	– KWW Arkadiusza Kosińskiego „Dobro Wspólne”. Wiceprzewodnicząca Komisji I
	nwestycji, Rolnictwa i Ekologii, członek Komisji Kultury, Oświaty i Sportu
	 oraz Komisji Spraw Społecznych.</p><p>Dyżur: III środa miesiąca 19:00-20:
	00 pok. nr 5 w Urzędzie Gminy Brwinów, ul. Grodziska 12</p><p>email: <a hr
	ef="https://" target="_blank">magdaszymczu@gmail.com</a>&nbsp;</p>
BEGIN:VALARM
ACTION:DISPLAY
DESCRIPTION:Dyżur radnej Magdaleny Szymczukiewicz (Dobro Wspólne)
TRIGGER:-PT1H
END:VALARM
END:VEVENT
END:VCALENDAR
