BEGIN:VCALENDAR
VERSION:2.0
CALSCALE:GREGORIAN
PRODID:adamgibbons/ics
METHOD:PUBLISH
X-PUBLISHED-TTL:PT1H
BEGIN:VEVENT
UID:456@terminarz.brwinow.gmina.pl
SUMMARY:Dyżur Radnej Marty Bartos (Dobro Wspólne)
DTSTAMP:20260421T105105Z
DTSTART:20260518T153000Z
DTEND:20260518T163000Z
DESCRIPTION:MARTA BARTOS zam. Otrębusy – KWW Arkadiusza Kosińskiego „Dobro 
	Wspólne”.\nPrzewodnicząca Komisji Kultury\, Oświaty i Sportu\, członek Kom
	isji Rewizyjnej\,\nKomisji Inwestycji\, Rolnictwa i Ekologii oraz Komisji 
	Spraw Sportowych.\n\nDyżur: III poniedziałek miesiąca 17:30-18:30 pok. nr 
	5 w Urzędzie Gminy Brwinów\,\nul. Grodziska 12\n\ne-mail: marta.bartos@rad
	a.brwinow.pl [marta.bartos@rada.brwinow.pl]\n\nInformacje pobrane ze stron
	y Urzędu.
URL:https://terminarz.brwinow.gmina.pl/event/dyzur-radnej-marty-bartos-dobr
	o-wspolne-12
GEO:52.1399153;20.7152592
LOCATION:Urząd Gminy Brwinów - Grodziska 12\, Brwinów
STATUS:CONFIRMED
CATEGORIES:Bartos,brwinów_radni
X-ALT-DESC;FMTTYPE=text/html:<p>MARTA BARTOS&nbsp;zam. Otrębusy – KWW Arkad
	iusza Kosińskiego „Dobro Wspólne”. Przewodnicząca Komisji Kultury, Oświaty
	 i Sportu, członek Komisji Rewizyjnej, Komisji Inwestycji, Rolnictwa i Eko
	logii oraz Komisji Spraw Sportowych.</p><p>Dyżur: III poniedziałek miesiąc
	a 17:30-18:30 pok. nr 5 w Urzędzie Gminy Brwinów, ul. Grodziska 12</p><p>e
	-mail: <a target="_blank" href="mailto:marta.bartos@rada.brwinow.pl">marta
	.bartos@rada.brwinow.pl</a></p><p>Informacje pobrane ze strony Urzędu.</p>
BEGIN:VALARM
ACTION:DISPLAY
DESCRIPTION:Dyżur Radnej Marty Bartos (Dobro Wspólne)
TRIGGER:-PT1H
END:VALARM
END:VEVENT
END:VCALENDAR
