BEGIN:VCALENDAR
VERSION:2.0
CALSCALE:GREGORIAN
PRODID:adamgibbons/ics
METHOD:PUBLISH
X-PUBLISHED-TTL:PT1H
BEGIN:VEVENT
UID:453@terminarz.brwinow.gmina.pl
SUMMARY:Warsztaty z instalowania systemu Linux na starszych komputerach
DTSTAMP:20260421T095419Z
DTSTART:20260512T150000Z
DTEND:20260512T170000Z
DESCRIPTION:Zapraszamy na cykliczne warsztaty w każdy drugi wtorek miesiąca
	 z odświeżania\nstarszych komputerów za pomocą instalowania niewłasnościow
	ych całkowicie\ndarmowych i bezpiecznych systemów rodziny Linux. Firma Mic
	rosoft niebawem zamyka\ndziałanie systemu Windows 10 i wymusza zakup noweg
	o sprzętu. Jednak jeśli\nkupiłaś lub kupiłeś komputer po roku 2010\, prawd
	opodobnie nie ma powodu\, żeby go\nwyrzucać. Instalując współczesny system
	 operacyjny Linux\, możesz nadal go używać\nprzez kolejne lata.\n\nNa wars
	ztatach będzie można zainstalować i wstępnie zapoznać się z następującymi\
	ntypami systemów Linux bazujących na dystrybucji Debian:\n\n * MX Linux\n\
	n * Ubuntu\n\n * Linux Mint\n\n * KDE Neon\n\nZapraszamy osoby o dowolnym 
	stopniu zaawansowania. Weźcie swoje komputery.\nBędziemy mieli jeden lub d
	wa dodatkowe monitory do dyspozycji. Możesz być\ncałkowicie zielona lub ca
	łkowicie zielony w tych sprawach. Pomożemy\, doradzimy.\nNiestety do insta
	lacji tych systemów nie nadają się urządzenia firmy Apple.\n\nOrganizator:
	 linuksiarze z okolic
URL:https://terminarz.brwinow.gmina.pl/event/warsztaty-z-instalowania-syste
	mu-linux-na-starszych-komputerach-7
GEO:52.1341372;20.7176912
LOCATION:Centrum Wilsonowska - Wilsona 2\, Brwinów
STATUS:CONFIRMED
CATEGORIES:brwinów_ngo,linux
X-ALT-DESC;FMTTYPE=text/html:<p>Zapraszamy na cykliczne warsztaty w każdy d
	rugi wtorek miesiąca z odświeżania starszych komputerów za pomocą instalow
	ania niewłasnościowych całkowicie darmowych i bezpiecznych systemów rodzin
	y Linux. Firma Microsoft niebawem zamyka działanie systemu Windows 10 i wy
	musza zakup nowego sprzętu. Jednak jeśli kupiłaś lub kupiłeś komputer po r
	oku 2010, prawdopodobnie nie ma powodu, żeby go wyrzucać. Instalując współ
	czesny system operacyjny Linux, możesz nadal go używać przez kolejne lata.
	<br><br>Na warsztatach będzie można zainstalować i wstępnie zapoznać się z
	 następującymi typami systemów Linux bazujących na dystrybucji Debian:</p>
	<ul><li><p>MX Linux</p></li><li><p>Ubuntu</p></li><li><p>Linux Mint</p></l
	i><li><p>KDE Neon</p></li></ul><p>Zapraszamy osoby o dowolnym stopniu zaaw
	ansowania. Weźcie swoje komputery. Będziemy mieli jeden lub dwa dodatkowe 
	monitory do dyspozycji. Możesz być całkowicie zielona lub całkowicie zielo
	ny w tych sprawach. Pomożemy, doradzimy. Niestety do instalacji tych syste
	mów nie nadają się urządzenia firmy Apple.<br><br>Organizator: linuksiarze
	 z okolic</p>
BEGIN:VALARM
ACTION:DISPLAY
DESCRIPTION:Warsztaty z instalowania systemu Linux na starszych komputerach
TRIGGER:-PT1H
END:VALARM
END:VEVENT
END:VCALENDAR
