BEGIN:VCALENDAR
VERSION:2.0
CALSCALE:GREGORIAN
PRODID:adamgibbons/ics
METHOD:PUBLISH
X-PUBLISHED-TTL:PT1H
BEGIN:VEVENT
UID:451@terminarz.brwinow.gmina.pl
SUMMARY:Dyżur radnego Romana Wachnika (PiS)
DTSTAMP:20260421T095937Z
DTSTART:20260511T133000Z
DTEND:20260511T143000Z
DESCRIPTION:ROMAN WACHNIK zam. Domaniew – KW Prawo i Sprawiedliwość. Człone
	k Komisji\nInwestycji\, Rolnictwa i Ekologii\, Komisji Kultury\, Oświaty i
	 Sportu oraz Komisji\nSpraw Społecznych.\n\nDyżur: II poniedziałek miesiąc
	a 15:30-16:30 pok. nr 5 w Urzędzie Gminy Brwinów\,\nul. Grodziska 12\n\ne-
	mail: roman.wachnik@rada.brwinow.pl [https://]\n\nInformacje pobrane ze st
	rony Urzędu.
URL:https://terminarz.brwinow.gmina.pl/event/dyzur-radnego-romana-wachnika-
	pis-18
GEO:52.1399153;20.7152592
LOCATION:Urząd Gminy Brwinów - Grodziska 12\, Brwinów
STATUS:CONFIRMED
CATEGORIES:brwinów_radni,Wachnik
X-ALT-DESC;FMTTYPE=text/html:<p>ROMAN WACHNIK&nbsp;zam. Domaniew – KW Prawo
	 i Sprawiedliwość. Członek Komisji Inwestycji, Rolnictwa i Ekologii, Komis
	ji Kultury, Oświaty i Sportu oraz Komisji Spraw Społecznych.</p><p>Dyżur: 
	II poniedziałek miesiąca 15:30-16:30 pok. nr 5 w Urzędzie Gminy Brwinów, u
	l. Grodziska 12</p><p>e-mail: <a href="https://" target="_blank">roman.wac
	hnik@rada.brwinow.pl</a></p><p>Informacje pobrane ze strony Urzędu.</p>
BEGIN:VALARM
ACTION:DISPLAY
DESCRIPTION:Dyżur radnego Romana Wachnika (PiS)
TRIGGER:-PT1H
END:VALARM
END:VEVENT
END:VCALENDAR
