BEGIN:VCALENDAR
VERSION:2.0
CALSCALE:GREGORIAN
PRODID:adamgibbons/ics
METHOD:PUBLISH
X-PUBLISHED-TTL:PT1H
BEGIN:VEVENT
UID:458@terminarz.brwinow.gmina.pl
SUMMARY:Dyżur radnej Anny Kuhn (PiS)
DTSTAMP:20260421T234620Z
DTSTART:20260519T160000Z
DTEND:20260519T170000Z
DESCRIPTION:ANNA KÜHN zam. Otrębusy – KW Prawo i Sprawiedliwość. Członek Ko
	misji Inwestycji\,\nRolnictwa i Ekologii\, Kultury\, Oświaty i Sportu oraz
	 Komisji Spraw Społecznych\n\nDyżur: III czwartek miesiąca 18:00-19:00 pok
	. nr 5 w Urzędzie Gminy Brwinów\, ul.\nGrodziska 12\n\ne-mail: anna.kuhn@r
	ada.brwinow.pl [https://]\n\nInformacje pobrane ze strony Urzędu.
URL:https://terminarz.brwinow.gmina.pl/event/dyzur-radnej-anny-kuhn-pis-17
GEO:52.1399153;20.7152592
LOCATION:Urząd Gminy Brwinów - Grodziska 12\, Brwinów
STATUS:CONFIRMED
CATEGORIES:brwinów_radni,Kuhn
X-ALT-DESC;FMTTYPE=text/html:<p>ANNA KÜHN&nbsp;zam. Otrębusy – KW Prawo i S
	prawiedliwość. Członek Komisji Inwestycji, Rolnictwa i Ekologii, Kultury, 
	Oświaty i Sportu oraz Komisji Spraw Społecznych</p><p>Dyżur: III czwartek 
	miesiąca 18:00-19:00 pok. nr 5 w Urzędzie Gminy Brwinów, ul. Grodziska 12<
	/p><p>e-mail: <a target="_blank" href="https://">anna.kuhn@rada.brwinow.pl
	</a></p><p>Informacje pobrane ze strony Urzędu.</p>
BEGIN:VALARM
ACTION:DISPLAY
DESCRIPTION:Dyżur radnej Anny Kuhn (PiS)
TRIGGER:-PT1H
END:VALARM
END:VEVENT
END:VCALENDAR
