BEGIN:VCALENDAR
VERSION:2.0
CALSCALE:GREGORIAN
PRODID:adamgibbons/ics
METHOD:PUBLISH
X-PUBLISHED-TTL:PT1H
BEGIN:VEVENT
UID:459@terminarz.brwinow.gmina.pl
SUMMARY:Dyżur radnej Hanny Jankowskiej (Dobro Wspólne)
DTSTAMP:20260421T234421Z
DTSTART:20260519T160000Z
DTEND:20260519T170000Z
DESCRIPTION:HANNA JANKOWSKA zam. Parzniew – KWW Arkadiusza Kosińskiego „Dob
	ro Wspólne”.\nPrzewodnicząca Komisji Skarg\, Wniosków i Petycji\, członek 
	Komisji Inwestycji\,\nRolnictwa i Ekologii oraz Komisji Kultury\, Oświaty 
	i Sportu.\n\nDyżur: III wtorek miesiąca 18:00-19:00 pok. nr 5 w Urzędzie G
	miny Brwinów\, ul.\nGrodziska 12\n\ne-mail: hanna.jankowska@rada.brwinow.p
	l [https://]\n\nInformacje pobrane ze strony Urzędu.
URL:https://terminarz.brwinow.gmina.pl/event/dyzur-radnej-hanny-jankowskiej
	-dobro-wspolne-18
GEO:52.1399153;20.7152592
LOCATION:Urząd Gminy Brwinów - Grodziska 12\, Brwinów
STATUS:CONFIRMED
CATEGORIES:brwinów_radni,Jankowska
X-ALT-DESC;FMTTYPE=text/html:<p>HANNA JANKOWSKA&nbsp;zam. Parzniew – KWW Ar
	kadiusza Kosińskiego „Dobro Wspólne”. Przewodnicząca Komisji Skarg, Wniosk
	ów i Petycji, członek Komisji Inwestycji, Rolnictwa i Ekologii oraz Komisj
	i Kultury, Oświaty i Sportu.</p><p>Dyżur: III wtorek miesiąca 18:00-19:00 
	pok. nr 5 w Urzędzie Gminy Brwinów, ul. Grodziska 12</p><p>e-mail: <a href
	="https://" target="_blank">hanna.jankowska@rada.brwinow.pl</a></p><p>Info
	rmacje pobrane ze strony Urzędu.</p>
BEGIN:VALARM
ACTION:DISPLAY
DESCRIPTION:Dyżur radnej Hanny Jankowskiej (Dobro Wspólne)
TRIGGER:-PT1H
END:VALARM
END:VEVENT
END:VCALENDAR
