BEGIN:VCALENDAR
VERSION:2.0
CALSCALE:GREGORIAN
PRODID:adamgibbons/ics
METHOD:PUBLISH
X-PUBLISHED-TTL:PT1H
BEGIN:VEVENT
UID:452@terminarz.brwinow.gmina.pl
SUMMARY:Dyżur radnej Katarzyny Górskiej (Dobro Wspólne)
DTSTAMP:20260421T095632Z
DTSTART:20260511T140000Z
DTEND:20260511T150000Z
DESCRIPTION:KATARZYNA GÓRSKA\, zam. Brwinów – KWW Arkadiusza Kosińskiego „D
	obro Wspólne”.\nCzłonek Komisji Kultury\, Oświaty i Sportu oraz Komisji Sp
	raw Społecznych.\n\nDyżur: II poniedziałek miesiąca 16:00-17:00 pok. nr 5 
	w Urzędzie Gminy Brwinów\,\nul. Grodziska 12\n\ne-mail: katarzyna.gorska@r
	ada.brwinow.pl [https://]\n\nInformacje pobrane ze strony Urzędu.
URL:https://terminarz.brwinow.gmina.pl/event/dyzur-radnej-katarzyny-gorskie
	j-dobro-wspolne-19
GEO:52.1399153;20.7152592
LOCATION:Urząd Gminy Brwinów - Grodziska 12\, Brwinów
STATUS:CONFIRMED
CATEGORIES:brwinów_radni,Górska
X-ALT-DESC;FMTTYPE=text/html:<p>KATARZYNA GÓRSKA, zam. Brwinów – KWW Arkadi
	usza Kosińskiego „Dobro Wspólne”. Członek Komisji Kultury, Oświaty i Sport
	u oraz Komisji Spraw Społecznych.</p><p>Dyżur: II poniedziałek miesiąca 16
	:00-17:00 pok. nr 5 w Urzędzie Gminy Brwinów, ul. Grodziska 12</p><p>e-mai
	l: <a href="https://" target="_blank">katarzyna.gorska@rada.brwinow.pl</a>
	</p><p>Informacje pobrane ze strony Urzędu.</p>
BEGIN:VALARM
ACTION:DISPLAY
DESCRIPTION:Dyżur radnej Katarzyny Górskiej (Dobro Wspólne)
TRIGGER:-PT1H
END:VALARM
END:VEVENT
END:VCALENDAR
