BEGIN:VCALENDAR
VERSION:2.0
CALSCALE:GREGORIAN
PRODID:adamgibbons/ics
METHOD:PUBLISH
X-PUBLISHED-TTL:PT1H
BEGIN:VEVENT
UID:454@terminarz.brwinow.gmina.pl
SUMMARY:Dyżur radnej Marty Obara-Michlewskiej (KO)
DTSTAMP:20260421T094956Z
DTSTART:20260512T160000Z
DTEND:20260512T170000Z
DESCRIPTION:MARTA OBARA-MICHLEWSKA zam. Żółwin – KKW Koalicja Obywatelska. 
	Członek Komisji\nInwestycji\, Rolnictwa i Ekologii oraz Komisji Kultury\, 
	Oświaty i Sportu.\n\nDyżur: II wtorek miesiąca 18:00-19:00 w Świetlicy w Ż
	ółwinie\, ul. Nadarzyńska 25\n\ne-mail: marta.obara-michlewska@rada.brwino
	w.pl [https://]\n\nInformacje pobrane ze strony Urzędu.
URL:https://terminarz.brwinow.gmina.pl/event/dyzur-radnej-marty-obara-michl
	ewskiej-ko-17
GEO:52.1077107;20.7250018
LOCATION:Świetlica w Żółwinie - Nadarzyńska 25\, Żółwin
STATUS:CONFIRMED
CATEGORIES:brwinów_radni,Michlewska
X-ALT-DESC;FMTTYPE=text/html:<p>MARTA OBARA-MICHLEWSKA&nbsp;zam. Żółwin – K
	KW Koalicja Obywatelska. Członek Komisji Inwestycji, Rolnictwa i Ekologii 
	oraz Komisji Kultury, Oświaty i Sportu.</p><p>Dyżur: II wtorek miesiąca 18
	:00-19:00 w Świetlicy w Żółwinie, ul. Nadarzyńska 25</p><p>e-mail: <a href
	="https://" target="_blank">marta.obara-michlewska@rada.brwinow.pl</a></p>
	<p>Informacje pobrane ze strony Urzędu.</p>
BEGIN:VALARM
ACTION:DISPLAY
DESCRIPTION:Dyżur radnej Marty Obara-Michlewskiej (KO)
TRIGGER:-PT1H
END:VALARM
END:VEVENT
END:VCALENDAR
